BEGIN:VCALENDAR
VERSION:2.0
PRODID:-//RCM - ECPv6.15.13//NONSGML v1.0//EN
CALSCALE:GREGORIAN
METHOD:PUBLISH
X-ORIGINAL-URL:https://richardcmorais.com
X-WR-CALDESC:Events for RCM
REFRESH-INTERVAL;VALUE=DURATION:PT1H
X-Robots-Tag:noindex
X-PUBLISHED-TTL:PT1H
BEGIN:VTIMEZONE
TZID:America/New_York
BEGIN:DAYLIGHT
TZOFFSETFROM:-0500
TZOFFSETTO:-0400
TZNAME:EDT
DTSTART:20210314T070000
END:DAYLIGHT
BEGIN:STANDARD
TZOFFSETFROM:-0400
TZOFFSETTO:-0500
TZNAME:EST
DTSTART:20211107T060000
END:STANDARD
BEGIN:DAYLIGHT
TZOFFSETFROM:-0500
TZOFFSETTO:-0400
TZNAME:EDT
DTSTART:20220313T070000
END:DAYLIGHT
BEGIN:STANDARD
TZOFFSETFROM:-0400
TZOFFSETTO:-0500
TZNAME:EST
DTSTART:20221106T060000
END:STANDARD
BEGIN:DAYLIGHT
TZOFFSETFROM:-0500
TZOFFSETTO:-0400
TZNAME:EDT
DTSTART:20230312T070000
END:DAYLIGHT
BEGIN:STANDARD
TZOFFSETFROM:-0400
TZOFFSETTO:-0500
TZNAME:EST
DTSTART:20231105T060000
END:STANDARD
BEGIN:DAYLIGHT
TZOFFSETFROM:-0500
TZOFFSETTO:-0400
TZNAME:EDT
DTSTART:20240310T070000
END:DAYLIGHT
BEGIN:STANDARD
TZOFFSETFROM:-0400
TZOFFSETTO:-0500
TZNAME:EST
DTSTART:20241103T060000
END:STANDARD
BEGIN:DAYLIGHT
TZOFFSETFROM:-0500
TZOFFSETTO:-0400
TZNAME:EDT
DTSTART:20250309T070000
END:DAYLIGHT
BEGIN:STANDARD
TZOFFSETFROM:-0400
TZOFFSETTO:-0500
TZNAME:EST
DTSTART:20251102T060000
END:STANDARD
BEGIN:DAYLIGHT
TZOFFSETFROM:-0500
TZOFFSETTO:-0400
TZNAME:EDT
DTSTART:20260308T070000
END:DAYLIGHT
BEGIN:STANDARD
TZOFFSETFROM:-0400
TZOFFSETTO:-0500
TZNAME:EST
DTSTART:20261101T060000
END:STANDARD
END:VTIMEZONE
BEGIN:VTIMEZONE
TZID:UTC
BEGIN:STANDARD
TZOFFSETFROM:+0000
TZOFFSETTO:+0000
TZNAME:UTC
DTSTART:20180101T000000
END:STANDARD
END:VTIMEZONE
BEGIN:VTIMEZONE
TZID:America/New_York
BEGIN:DAYLIGHT
TZOFFSETFROM:-0500
TZOFFSETTO:-0400
TZNAME:EDT
DTSTART:20180311T070000
END:DAYLIGHT
BEGIN:STANDARD
TZOFFSETFROM:-0400
TZOFFSETTO:-0500
TZNAME:EST
DTSTART:20181104T060000
END:STANDARD
BEGIN:DAYLIGHT
TZOFFSETFROM:-0500
TZOFFSETTO:-0400
TZNAME:EDT
DTSTART:20190310T070000
END:DAYLIGHT
BEGIN:STANDARD
TZOFFSETFROM:-0400
TZOFFSETTO:-0500
TZNAME:EST
DTSTART:20191103T060000
END:STANDARD
BEGIN:DAYLIGHT
TZOFFSETFROM:-0500
TZOFFSETTO:-0400
TZNAME:EDT
DTSTART:20200308T070000
END:DAYLIGHT
BEGIN:STANDARD
TZOFFSETFROM:-0400
TZOFFSETTO:-0500
TZNAME:EST
DTSTART:20201101T060000
END:STANDARD
END:VTIMEZONE
BEGIN:VEVENT
DTSTART;TZID=America/New_York:20250912T150000
DTEND;TZID=America/New_York:20250919T170000
DTSTAMP:20260422T092429
CREATED:20250428T200947Z
LAST-MODIFIED:20250428T200947Z
UID:2772-1757689200-1758301200@richardcmorais.com
SUMMARY:Milford Writing Institute: Fall 2025 Retreat Program
DESCRIPTION:Aspiring Writer’s Retreat: Masterclasses with Richard C. Morais \nSubjects: Fiction\, Memoir and Non-Fiction. \nTarget Audience: Aspiring writers interested in improving their skills and body of work\, leading to publication. \nRetreat requirements: A significant start on an ambitious piece of writing; must submit a 10-page writing sample and have a Zoom interview with Milford Writing Institute’s founder\, Richard C. Morais. If accepted\, you will then be asked to send the entire work in progress so Richard can read and digest your work before the retreat\, so he is fully prepared to  be of help and value. \nProgram: Three days of inspiration at the Milford Readers and Writers Festival\, followed by a 5-day writing retreat. Mornings will be devoted to group editorial discussions; afternoons to writing\, with attendees polishing their work based on the editorial comments they’ve received during the week. Each student is guaranteed in-depth private masterclass/masterclasses with Richard\, and workshopped session/sessions with all attendees discussing your work. Since we will also be dining and relaxing together at key points in the day\, there will be many other opportunities for engagement. At different points\, Richard will also invite in special writers/guests to come talk to attendees about forging their own literary route and the business of writing and getting published. \nGroup size: Max 10.
URL:https://richardcmorais.com/event/milford-writing-institute-fall-2025-retreat-program/
LOCATION:La Posada\, 210 2nd Street\, Milford\, PA\, 18337\, United States
CATEGORIES:Lit Festival,Media appearance,Milford Writing Institute,Speaking Tour
ORGANIZER;CN="RCM Media llc":MAILTO:richard@richardcmorais.com
END:VEVENT
BEGIN:VEVENT
DTSTART;TZID=America/New_York:20250822T170000
DTEND;TZID=America/New_York:20250822T190000
DTSTAMP:20260422T092429
CREATED:20250701T153319Z
LAST-MODIFIED:20250701T153319Z
UID:2847-1755882000-1755889200@richardcmorais.com
SUMMARY:A Night to Remember: The 2025 TriVersity Writers Scholarship Fundraiser
DESCRIPTION:Be inspired by the LGBTQ+ literary voices of the past while lifting the LGBTQ+ literary voices of the future. “Living Legend” journalist Frank Pizzoli discusses the writers in his acclaimed book Passionate Outliers\, shedding light on the “Violet Quill” and why era-defining literary voices like the late Edmund White and Milford’s own Sean Strub emerged and shaped the Gay Liberation Movement. An enlightening and entertaining evening\, moderated by award-winning journalist Richard C. Morais\, which also promises to do good. Proceeds are earmarked for the TriVersity Writers Scholarship Fund\, so a young and aspiring LGBTQ+ writer can attend the Milford Writing Institute and have their emerging literary voice heard. Buy event tickets or make a donation here.  \n  \nDate: August 22 \nTime: 5 to 7 pm \nPlace: 403 Broad Street\, Milford\, Pa. 18337 \n  \n  \n 
URL:https://richardcmorais.com/event/a-night-to-remember-the-2025-triversity-writers-scholarship-fundraiser/
LOCATION:403 Broad Street\, Milford\, Pa. 18337\, 403 Broad Street\, Milford\, PA\, 18337\, United States
CATEGORIES:Book Reading,Milford Writing Institute,TriVersity Writers Scholarshio
END:VEVENT
BEGIN:VEVENT
DTSTART;TZID=America/New_York:20250607T120000
DTEND;TZID=America/New_York:20250607T140000
DTSTAMP:20260422T092429
CREATED:20250428T195122Z
LAST-MODIFIED:20250602T182715Z
UID:2766-1749297600-1749304800@richardcmorais.com
SUMMARY:MILFORD MOONS: Book-Lover’s Scholarship and Fundraising Event
DESCRIPTION:Internationally renowned author and Milford Readers & Writers Festival Editorial Director Richard C. Morais will be launching his latest book\, Milford Moons: A writer’s visual love letter to his ancestral village\, with a book signing and fundraising exhibit of related photographs. This joyous and special event will take place June 7th between 12 – 2 pm at the historic and beautiful Hotel Fauchère at 401 Broad Street\, Milford\, Pa. 18337. Milford Moons steadily rose to become a #2 Amazon Best Seller in its “Individual Photographer Essays” category. \nAn award-winning Forbes and Barron’s business-journalist veteran\, and the New York Times best- selling author of The Hundred-Foot Journey novel that was made into a major Hollywood film\, Richard is also the fourth generation of his family to live in the village. Milford Moons\, a coffee table book filled with over 250 photographs\, is a moody and atmospheric celebration of his nightly ramblings through town with his dogs\, visually capturing the mysterious\, timeless\, and deep connections he has with this Eastern Pennsylvanian village. \nThe book launch’s attending exhibit will showcase throughout the summer 20 hand-picked\, limited edition (1/10) photographs from the book in the entry hall of the hotel. A generous portion from the sales of these framed and signed prints will be donated to the Pike Artworks “Book-Lovers Scholarship” that he is establishing on behalf of the 2025 Milford Readers & Writers Festival held September 12-14. \nAware that the festival’s passes are not affordable for some\, Richard decided to spearhead a fund to purchase tickets that can be donated to deserving book lovers who would like to attend but otherwise could not. To that end\, 25% of the profits from the sale of the framed prints will go to this worthy case. \nThe public is invited to the free event to meet the author for this\, the first (hot off the press) book-signing and art exhibit in the stately Hotel Fauchère.
URL:https://richardcmorais.com/event/milford-moons-book-lovers-scholarship-and-fundraising-event/
LOCATION:Hotel Fauchere\, Hotel Fauchere\, 401 Broad Street\, Milford\, PA\, 18337\, United States
CATEGORIES:Media appearance,Milford Moons
END:VEVENT
BEGIN:VEVENT
DTSTART;TZID=America/New_York:20230110T180000
DTEND;TZID=America/New_York:20230112T210000
DTSTAMP:20260422T092429
CREATED:20230110T173221Z
LAST-MODIFIED:20230110T173221Z
UID:2639-1673373600-1673557200@richardcmorais.com
SUMMARY:Rainbow Railroad Road to Freedom Literary Festival Jan 12th\, 2023\, in NYC
DESCRIPTION:by John Brooksgraphite and colored pencil on paper\nThere are 69 UN Member States where being LGBTQ+ is criminalized\, and in 10 of those countries the sentence for same-sex intimacy can be death. Come join me as I host the Road to Freedom Literary Festival at Penn 1 in NYC on Jan 12th\, 2023 \, with all benefits going to the Rainbow Railroad\, a wonderful NGO that like the Underground Railroad of lore\, extracts LGBTQ+ threatened by their governments. You can buy tickets here. \n  \n“Everyone Loves You Here” by John Brooks. 2022. 50″ x 38.5 ”  To be auctioned in 2023 for the benefit of the Rainbow Railroad.
URL:https://richardcmorais.com/event/rainbow-railroad-road-to-freedom-literary-festival-jan-12th-2023-in-nyc/
LOCATION:PA
END:VEVENT
BEGIN:VEVENT
DTSTART;TZID=America/New_York:20220917T100000
DTEND;TZID=America/New_York:20220917T110000
DTSTAMP:20260422T092429
CREATED:20220721T190833Z
LAST-MODIFIED:20220721T190833Z
UID:2622-1663408800-1663412400@richardcmorais.com
SUMMARY:Reader's & Writer's Festival\, Sep 16 -18\, in Milford\, Pa.
DESCRIPTION:“What is American Food?” \nMain stage discussion with Yale historian Paul Freedman at 10 AM Milford Theater on Friday Sep. 17.
URL:https://richardcmorais.com/event/readers-writers-festival-sep-16-18-in-milford-pa/
LOCATION:Milford Theater\, 114 East Catherine Street\, Milford\, PA\, 18337\, United States
CATEGORIES:Lit Festival
END:VEVENT
BEGIN:VEVENT
DTSTART;TZID=UTC:20200423T190000
DTEND;TZID=UTC:20200423T200000
DTSTAMP:20260422T092429
CREATED:20200411T190255Z
LAST-MODIFIED:20200411T190255Z
UID:2606-1587668400-1587672000@richardcmorais.com
SUMMARY:SLC Online Discussion of The Man with No Borders
DESCRIPTION:Sarah Lawrence College: Join us for a special evening with alumnus Richard C. Morais ’81 in a live discussion of his most recent novel The Man With No Borders. In advance of this event\, you can read the novel along with Richard.
URL:https://richardcmorais.com/event/slc-online-discussion-of-the-man-with-no-borders/
LOCATION:PA
END:VEVENT
BEGIN:VEVENT
DTSTART;TZID=UTC:20191121T190000
DTEND;TZID=UTC:20191121T203000
DTSTAMP:20260422T092429
CREATED:20190906T003143Z
LAST-MODIFIED:20190906T003143Z
UID:2569-1574362800-1574368200@richardcmorais.com
SUMMARY:The "Cultures Collide" Book Tour: Boston
DESCRIPTION:Part three of the “Cultures Collide” tour\, where I’ll be riffing about my novels and what actually happens when cultures rub up against each other\, will take place Nov. 21st at Hostelling International’s Boston hostel. Co-hosted with Cultural Vistas. Come and join us!
URL:https://richardcmorais.com/event/the-cultures-collide-book-tour-boston/
LOCATION:CV/Hostelling International\, 10 Stuart Street\, Boston\, MA\, 02116\, United States
CATEGORIES:Book Reading
ATTACH;FMTTYPE=image/jpeg:https://richardcmorais.com/wp-content/uploads/2019/09/Unknown-1.jpeg
END:VEVENT
BEGIN:VEVENT
DTSTART;TZID=UTC:20191106T183000
DTEND;TZID=UTC:20191106T203000
DTSTAMP:20260422T092429
CREATED:20190426T001111Z
LAST-MODIFIED:20190530T165509Z
UID:2380-1573065000-1573072200@richardcmorais.com
SUMMARY:Private event for Sarah Lawrence College alumni
DESCRIPTION:  \n \nAn intimate and private reading of The Man with No Borders for Sarah Lawrence College alumni only.
URL:https://richardcmorais.com/event/private-event-for-sarah-lawrence-college-aumni/
LOCATION:Private reading for Sarah Lawrence alumni only\, Private Event. Address witheld\, New York\, NY\, 10036\, United States
CATEGORIES:Book Reading,The Man with No Borders
ATTACH;FMTTYPE=image/jpeg:https://richardcmorais.com/wp-content/uploads/2019/04/Unknown-2.jpeg
END:VEVENT
BEGIN:VEVENT
DTSTART;TZID=UTC:20191103T170000
DTEND;TZID=UTC:20191103T180000
DTSTAMP:20260422T092429
CREATED:20191003T203657Z
LAST-MODIFIED:20191003T203657Z
UID:2594-1572800400-1572804000@richardcmorais.com
SUMMARY:Soon Appearing in Los Angeles
DESCRIPTION:LA bound to read on Nov. 3rd at the Flintridge Bookstore & Coffeehouse.
URL:https://richardcmorais.com/event/soon-appearing-in-los-angeles/
LOCATION:Flintridge Bookstore and Coffeehouse\, 1010 Foothill Blvd.\, La Canada Flintridge\, CA\, 91011\, United States
CATEGORIES:Book Reading
ATTACH;FMTTYPE=image/jpeg:https://richardcmorais.com/wp-content/uploads/2019/10/Flintridgelogo1.jpg
END:VEVENT
BEGIN:VEVENT
DTSTART;TZID=UTC:20191021T190000
DTEND;TZID=UTC:20191021T203000
DTSTAMP:20260422T092429
CREATED:20190829T010259Z
LAST-MODIFIED:20190829T043647Z
UID:2547-1571684400-1571689800@richardcmorais.com
SUMMARY:The "Cultures Collide" Tour: Understanding the Slam Dance in the Mosh Pit of a Borderless World
DESCRIPTION:Cultural Vista’s talented CEO Jennifer Clinton\, teaming up with Hostelling International\, have engaged me to start a speaking tour themed “cultures collide\,” using my three novels as a jumping off point to discuss the immense blessings and real dangers that occur when different cultures bang up against each other. First stop on the tour will be at the Fisherman’s Wharf Hostelling International property in San Francisco. Come join us!
URL:https://richardcmorais.com/event/the-cultures-collide-tour-understanding-the-slam-dance-in-the-mosh-pit-of-a-borderless-world/
LOCATION:‘Cultures Collide’ Tour:  Understanding the slam-dance in the mosh pit of a borderless world\, Building 240\, Fort Mason\, San Francisco\, CA\, 94123\, United States
CATEGORIES:Speaking Tour
ATTACH;FMTTYPE=image/png:https://richardcmorais.com/wp-content/uploads/2019/08/SanFransisco-FishermansWharf-details-map.png
END:VEVENT
BEGIN:VEVENT
DTSTART;TZID=UTC:20191018T190000
DTEND;TZID=UTC:20191018T203000
DTSTAMP:20260422T092429
CREATED:20191003T202150Z
LAST-MODIFIED:20191003T202150Z
UID:2588-1571425200-1571430600@richardcmorais.com
SUMMARY:Bay Area Reading and Signing at Book Passage
DESCRIPTION:Reading in Marin County\, Ca.\, at very cool Book Passage in Corte Madera\, Ca. Can’t wait – that’s my brother Vasco’s home turf.
URL:https://richardcmorais.com/event/bay-area-reading-and-signing-at-book-passage/
LOCATION:Book Passage\, 51 Tamal Vista Blvd.\, Corte Madera\, CA\, United States
CATEGORIES:Book Reading
ATTACH;FMTTYPE=image/jpeg:https://richardcmorais.com/wp-content/uploads/2019/10/web-logo-2.jpg
END:VEVENT
BEGIN:VEVENT
DTSTART;TZID=UTC:20191017T180000
DTEND;TZID=UTC:20191017T220000
DTSTAMP:20260422T092429
CREATED:20190729T012222Z
LAST-MODIFIED:20190808T170421Z
UID:2499-1571335200-1571349600@richardcmorais.com
SUMMARY:Cultural Vistas Gala
DESCRIPTION:Honored to be the keynote speaker at the awards gala of Cultural Vistas\, a fantastic organization that runs cultural exchanges for some of the world’s finest institutions.
URL:https://richardcmorais.com/event/cultural-vistas-gala/
LOCATION:Cultural Vistas\, Tribeca Rooftop\, 2 Desbrosses Street\, New York\, NY\, 10013\, United States
CATEGORIES:Speaking Tour
ATTACH;FMTTYPE=image/png:https://richardcmorais.com/wp-content/uploads/2019/07/4ed.Gala_Logo_2019_Final.png
END:VEVENT
BEGIN:VEVENT
DTSTART;TZID=UTC:20190924T190000
DTEND;TZID=UTC:20190924T203000
DTSTAMP:20260422T092429
CREATED:20190530T164436Z
LAST-MODIFIED:20190530T164436Z
UID:2482-1569351600-1569357000@richardcmorais.com
SUMMARY:Back to School: Sarah Lawrence College
DESCRIPTION:Reading and discussion of The Man with No Borders at my old alma mater.
URL:https://richardcmorais.com/event/back-to-school-sarah-lawrence-college/
LOCATION:Sarah Lawrence College\, 1 Meadway\, Bronxville\, NY\, 10708\, United States
CATEGORIES:Book Reading,The Man with No Borders
ATTACH;FMTTYPE=image/jpeg:https://richardcmorais.com/wp-content/uploads/2019/05/xWestlands_Hamerman.jpg.pagespeed.ic_.Ibs5htHaoH.jpg
END:VEVENT
BEGIN:VEVENT
DTSTART;TZID=UTC:20190923T190000
DTEND;TZID=UTC:20190923T210000
DTSTAMP:20260422T092429
CREATED:20190424T235655Z
LAST-MODIFIED:20190507T233744Z
UID:2331-1569265200-1569272400@richardcmorais.com
SUMMARY:Chappaqua Library
DESCRIPTION:Come hear me read and discuss The Man with No Borders at the televised Chappaqua library event. Taking place across the street from the library in the New Castle Town Hall. \n 
URL:https://richardcmorais.com/event/chappaqua-library/
LOCATION:Chappaqua Library\, Chappaqua Library\, 195 South Greeley Avenue\, New Castle Town Hall\, 200 South Greeley Avenue\, Chappaqua\, NY\, 10514\, United States
CATEGORIES:Book Reading,Public library,The Man with No Borders
ATTACH;FMTTYPE=image/jpeg:https://richardcmorais.com/wp-content/uploads/2019/04/Unknown-1.jpeg
END:VEVENT
BEGIN:VEVENT
DTSTART;TZID=America/New_York:20190921T161500
DTEND;TZID=America/New_York:20190921T173000
DTSTAMP:20260422T092429
CREATED:20190422T034626Z
LAST-MODIFIED:20190811T213121Z
UID:2244-1569082500-1569087000@richardcmorais.com
SUMMARY:Milford Readers and Writers Festival
DESCRIPTION:  \n  \n  \n  \n  \nI will be reading and answering questions about The Man with No Borders at the Fauchere series of the cool Readers and Writers Festival in Milford\, Pa.
URL:https://richardcmorais.com/event/milford-readers-and-writers-festival/
LOCATION:Hotel Fauchere\, Hotel Fauchere\, 401 Broad Street\, Milford\, PA\, 18337\, United States
CATEGORIES:Book Reading
ATTACH;FMTTYPE=image/jpeg:https://richardcmorais.com/wp-content/uploads/2019/04/DN-TTD-PIK-MilfordReadingWriting-01-300x216.jpg
END:VEVENT
BEGIN:VEVENT
DTSTART;TZID=UTC:20190919T173000
DTEND;TZID=UTC:20190919T200000
DTSTAMP:20260422T092429
CREATED:20190916T232537Z
LAST-MODIFIED:20190916T232537Z
UID:2573-1568914200-1568923200@richardcmorais.com
SUMMARY:Impact Alpha UN Week
DESCRIPTION:Excited to be discussing impact-investing lessons from my novel The Man with No Borders while joining Andrew Lee\, UBS’s managing director\, on a panel moderated by David Bank\, editor of Impact Alpha. Hanging with some seriously smart people in this invitation-only event. Should be fun. \n 
URL:https://richardcmorais.com/event/impact-alpha-un-week/
LOCATION:ImpactAlpha
CATEGORIES:Speaking Tour,The Man with No Borders
ATTACH;FMTTYPE=image/jpeg:https://richardcmorais.com/wp-content/uploads/2019/08/Langa-joint-pose.jpg
END:VEVENT
BEGIN:VEVENT
DTSTART;TZID=UTC:20190917T073000
DTEND;TZID=UTC:20190917T074000
DTSTAMP:20260422T092429
CREATED:20190905T195112Z
LAST-MODIFIED:20190905T195112Z
UID:2563-1568705400-1568706000@richardcmorais.com
SUMMARY:Appearing on NY1 Morning Show
DESCRIPTION:Thrilled to be appearing with anchor Pat Kiernan on NY1’s Morning show\, to discuss The Man with No Borders and how New York influences the writing process.
URL:https://richardcmorais.com/event/appearing-on-ny1-morning-show/
LOCATION:PA
CATEGORIES:Media appearance
ATTACH;FMTTYPE=image/jpeg:https://richardcmorais.com/wp-content/uploads/2019/09/anim_mo1_bumper_0526041391106356522177png.jpeg
END:VEVENT
BEGIN:VEVENT
DTSTART;TZID=UTC:20190915T190000
DTEND;TZID=UTC:20190915T210000
DTSTAMP:20260422T092429
CREATED:20190424T231130Z
LAST-MODIFIED:20190530T165825Z
UID:2324-1568574000-1568581200@richardcmorais.com
SUMMARY:KGB Bar: Sunday Night Fiction
DESCRIPTION:Reading from The Man with No Borders at my favorite New York venue – the bohemian KGB Bar on the Lower east Side. Come join the celebrations. The whiskey is cheap.
URL:https://richardcmorais.com/event/kgb-bar-sunday-night-fiction/
LOCATION:KGB Bar\, KGB Bar\, 85 east 4th Street\, New York\, NY\, 10003\, United States
CATEGORIES:Book Reading,The Man with No Borders
ATTACH;FMTTYPE=image/gif:https://richardcmorais.com/wp-content/uploads/2019/04/enter_over.gif
END:VEVENT
BEGIN:VEVENT
DTSTART;TZID=UTC:20190915T140000
DTEND;TZID=UTC:20190915T160000
DTSTAMP:20260422T092429
CREATED:20190424T222035Z
LAST-MODIFIED:20190807T233007Z
UID:2312-1568556000-1568563200@richardcmorais.com
SUMMARY:Ruth Keeler Memorial Library
DESCRIPTION:Reading from The Man with No Borders and Q&A with audience at the Ruth Keeler Memorial public library in North Salem\, New York.
URL:https://richardcmorais.com/event/ruth-keeler-memorial-library/
LOCATION:Ruth Keeler Memorial Library\, Ruth Keeler Memorial Library\, 276 Titicus Road\, North Salem\, NY\, 10560\, United States
CATEGORIES:Book Reading,Public library
ATTACH;FMTTYPE=image/jpeg:https://richardcmorais.com/wp-content/uploads/2019/04/Unknown.jpeg
END:VEVENT
BEGIN:VEVENT
DTSTART;TZID=UTC:20190913T090000
DTEND;TZID=UTC:20190913T130000
DTSTAMP:20260422T092429
CREATED:20190831T014225Z
LAST-MODIFIED:20190831T164604Z
UID:2559-1568365200-1568379600@richardcmorais.com
SUMMARY:Amazon Head Office "Fishbowl" Event
DESCRIPTION:Honored to be asked by Amazon to come to their Seattle head office to be on stage for some Q&As at their large-scale “fishbowl” event for staff and families. \n 
URL:https://richardcmorais.com/event/amazon-head-office-fishbowl-event/
LOCATION:PA
CATEGORIES:Book Reading,Speaking Tour
ATTACH;FMTTYPE=image/jpeg:https://richardcmorais.com/wp-content/uploads/2019/08/Unknown.jpeg
END:VEVENT
BEGIN:VEVENT
DTSTART;VALUE=DATE:20190901
DTEND;VALUE=DATE:20190902
DTSTAMP:20260422T092429
CREATED:20190317T233229Z
LAST-MODIFIED:20190317T233610Z
UID:2050-1567296000-1567382399@richardcmorais.com
SUMMARY:The Man with No Borders - Official Release Date
DESCRIPTION:The official release date of my latest novel\, The Man with No Borders
URL:https://richardcmorais.com/event/the-man-with-no-borders-official-release-date/
LOCATION:Amazon\, 410 Terry Ave. North\, Seattle\, WA\, 98109-5210\, United States
ATTACH;FMTTYPE=image/jpeg:https://richardcmorais.com/wp-content/uploads/2019/03/51Y1WgLLgKL._SX329_BO1204203200_-199x300-2.jpg
END:VEVENT
END:VCALENDAR